BEGIN:VCALENDAR
VERSION:2.0
PRODID:-//Jazz and Charm Creative Collections - ECPv6.6.3//NONSGML v1.0//EN
CALSCALE:GREGORIAN
METHOD:PUBLISH
X-WR-CALNAME:Jazz and Charm Creative Collections
X-ORIGINAL-URL:https://staging.jazzandcharm.com
X-WR-CALDESC:Events for Jazz and Charm Creative Collections
REFRESH-INTERVAL;VALUE=DURATION:PT1H
X-Robots-Tag:noindex
X-PUBLISHED-TTL:PT1H
BEGIN:VTIMEZONE
TZID:UTC
BEGIN:STANDARD
TZOFFSETFROM:+0000
TZOFFSETTO:+0000
TZNAME:UTC
DTSTART:20240101T000000
END:STANDARD
TZID:America/Halifax
BEGIN:DAYLIGHT
TZOFFSETFROM:-0400
TZOFFSETTO:-0300
TZNAME:ADT
DTSTART:20240310T060000
END:DAYLIGHT
BEGIN:STANDARD
TZOFFSETFROM:-0300
TZOFFSETTO:-0400
TZNAME:AST
DTSTART:20241103T050000
END:STANDARD
END:VTIMEZONE
BEGIN:VEVENT
DTSTART;TZID=UTC:20240921T120000
DTEND;TZID=UTC:20240921T140000
DTSTAMP:20260425T120846
CREATED:20240812T054909Z
LAST-MODIFIED:20240812T054909Z
UID:10000007-1726920000-1726927200@staging.jazzandcharm.com
SUMMARY:Autumn Pumpkin Grapevine Wreath Making Class
DESCRIPTION:Create Your Own Autumn Pumpkin Grapevine Wreath with Pam – September 21st! \nHey there\, craft lovers! 🍁 Ready to add a touch of autumn charm to your home decor? Join us at Jazz & Charm for our Autumn Pumpkin Grapevine Wreath Making Class! \nPam\, our talented owner and head designer\, will be leading this fun and hands-on workshop. With over 1\,675 Etsy sales\, Pam knows how to turn crafting into an art form\, and she’s excited to share her tips and tricks with you. \n  \nClass Details: \n\n🗓️ Date: September 21\n🕰️ Time: 12:00 PM – 2:00 PM\n📍 Location: Jazz & Charm Studio\, 3011 F Street\, Bakersfield\n💵 Cost: $75 (all materials included)\n👥 Capacity: Limited to 10 participants\n\n  \nWhat to Expect: \nIn this 2-hour class\, you’ll get to dive into the world of wreath making with all the materials provided for you. From vibrant autumn leaves and adorable faux pumpkins to elegant ribbons and more\, we’ve got everything you need to create a stunning fall wreath. Whether you’re a seasoned crafter or a beginner\, Pam will guide you step-by-step to ensure you leave with a beautiful creation that you can proudly hang on your door or display in your home. \n  \nWhat You’ll Learn: \n\nWreath Assembly: The basics of selecting and arranging materials to create a balanced and aesthetically pleasing design.\nDesign Techniques: Creative tips and tricks for personalizing your wreath and making it uniquely yours.\nMaterial Handling: How to work with different materials like faux pumpkins\, leaves\, and ribbons to add texture and depth to your wreath.\n\n  \nBenefits of Attending: \n\nExpert Instruction: Learn from Pam\, a seasoned designer with a passion for crafting.\nAll-Inclusive: All materials are provided\, so just bring your creativity and enthusiasm!\nSocial Experience: Meet fellow craft enthusiasts and make new friends in a fun\, supportive environment.\nBeautiful Decor: Take home a gorgeous\, handcrafted wreath that’s perfect for the fall season.\nGift Potential: Create a thoughtful and unique gift for a friend or loved one.\n\n  \nLimited Spaces Available — Sign Up Today \nSpaces are limited to ensure a personalized experience for everyone. Don’t miss out on this wonderful opportunity to craft\, create\, and celebrate the fall season with us! \nReserve your spot today and join us for a memorable afternoon of creativity. \n  \nQuestions or Additional Information: \nGot questions or need more info? We’re here to help! Feel free to contact us at pam@jazzandcharm.com or call us at 661-479-7144. We can’t wait to see you there! \n 
URL:https://staging.jazzandcharm.com/event/autumn-pumpkin-grapevine-wreath-making-class/
LOCATION:Jazz and Charm\, 3011 F Street\, Bakersfield\, 93301\, United States
ATTACH;FMTTYPE=image/jpeg:https://staging.jazzandcharm.com/wp-content/uploads/2024/08/2024-Fall-Pumpkin-Wreath-Class-2.jpg
END:VEVENT
BEGIN:VEVENT
DTSTART;TZID=UTC:20240914T120000
DTEND;TZID=UTC:20240914T140000
DTSTAMP:20260425T120846
CREATED:20240811T205421Z
LAST-MODIFIED:20240811T205421Z
UID:10000006-1726315200-1726322400@staging.jazzandcharm.com
SUMMARY:Halloween & Fall Bow Making Workshop with Pam
DESCRIPTION:Are you looking for a fun and creative afternoon? Come join us at Jazz & Charm for our Hands-On Bow Making Class! \nPam\, our awesome owner and head designer (who’s sold over 500 sets of bows on Etsy!)\, will be leading the class. \nIt’s the perfect way to dip your toes into our workshops while learning a new DIY skill and get a sneak peek at our bow collection. \n  \nClass Details: \n🗓️ Date: September 7 \n🕰️ Time: 12:00 PM – 2:00 PM \n📍 Location: Jazz & Charm Studio\, 3011 F Street\, Bakersfield \n💵 Cost: $35 (That’s a 50% discount! We usually sell a set of two bows for $35 on Etsy.) \n👥 Capacity: We’re keeping it cozy with just 10 spots available. \n  \n  \nWhat to Expect: \nIn this 2-hour class\, Pam will teach you how to make two fabulous sets of bows (that’s four bows total!). \nShe’ll help you pick from a variety of Fall and Halloween-themed ribbons\, plus some preselected combinations if you need a little inspiration. \nIt’s hands-on\, so you’ll be crafting and creating the whole time! \n  \nWhat You’ll Learn: \nRibbon Selection: Find out how to pick the perfect ribbons for any occasion\, whether it’s for a classic look or something more festive. \nBow Making Techniques: Learn all the tips and tricks for making professional-quality bows\, including layering\, folding\, and tying. \nCreative Design: Get creative with different ribbons and embellishments to make your bows really pop.. \n  \nBenefits of Attending: \nHands-On Fun: Enjoy a fun\, interactive session where you can learn by doing. \nExpert Tips: Pam’s got tons of experience and she’ll be sharing all her best tips with you. \nTake Home Your Creations: You’ll leave with two sets of beautiful bows that you made yourself – perfect for decorating or gifting. \nSpecial Discount: This class is a steal at $35 – that’s half off our regular Etsy prices! \nDiscover More Classes: Get a taste of what Jazz & Charm has to offer with our other hands-on crafting experiences. Visit JazzandCharm.com under Events \n  \nQuestions or Additional Information: \nGot questions or need more info? We’re here to help! Drop us an email at pam@jazzandcharm.com or give us a call at 661-479-7144. We’d love to hear from you! \n  \nDon’t Miss Out — Reserve Your Spot Today! \n We’re keeping it small with just 10 spots to make sure everyone gets lots of attention. So don’t wait – order below and join us for a super fun and creative afternoon! \n  \n 
URL:https://staging.jazzandcharm.com/event/halloween-fall-bow-making-workshop-with-pam/
LOCATION:Jazz and Charm\, 3011 F Street\, Bakersfield\, 93301\, United States
ATTACH;FMTTYPE=image/jpeg:https://staging.jazzandcharm.com/wp-content/uploads/2024/08/HALLOWEEN-FALL-BOW-SET-CLASS.jpg
END:VEVENT
BEGIN:VEVENT
DTSTART;TZID=UTC:20240907T120000
DTEND;TZID=UTC:20240907T140000
DTSTAMP:20260425T120846
CREATED:20240811T063617Z
LAST-MODIFIED:20240811T212855Z
UID:10000005-1725710400-1725717600@staging.jazzandcharm.com
SUMMARY:Fall Pumpkin Wreath Making Class
DESCRIPTION:🍂 Join Us for a Creative Afternoon at Jazz & Charm! 🎃 \nWelcome the beauty of autumn into your home with our Fall Pumpkin Wreath Making Class. \nOn September 7th\, from 12:00 PM to 2:00 PM\, we invite you to Jazz & Charm Studio in Bakersfield for a fun and engaging hands-on experience. \nWhether you’re a seasoned crafter or a complete beginner\, our expert instructor Pam\, owner and head designer of Jazz & Charm\, will guide you through each step to create a stunning wreath that you’ll be proud to display. With over 1\,675 sales on Etsy\, Pam’s expertise in wreaths\, centerpieces\, and bows is unmatched. \n  \nWhat to Expect: \n\nExpert Instruction: Learn from Pam\, whose extensive experience and creative skills ensure you’ll create a beautiful wreath.\nAll Materials Provided: We supply everything you need\, including a variety of fall-themed materials like ribbons\, faux pumpkins\, leaves\, and more.\nTake Home Your Creation: Leave with a beautiful\, handcrafted wreath perfect for your door\, wall\, or as a thoughtful gift for a dear friend or loved one. It’ll also make a wonderful decoration for your office or business lobby.\n\n  \nEvent Details: \n🗓️ Date: September 7\n🕰️ Time: 12:00 PM – 2:00 PM\n📍 Location: Jazz & Charm Studio\, 3011 F Street\, Bakersfield\n💵 Cost: $75 (All materials included)\n👥 Capacity: Limited to 10 participants \n  \nWhy You’ll Love This Class: \n\nFun and Relaxing: Enjoy a few hours of creativity and relaxation in a friendly and supportive environment.\nMeet Like-Minded People: Make new friends and share the joy of crafting.\nSeasonal Decor: Create a beautiful piece that celebrates the fall season and adds charm to any space.\n\n  \nSpace is limited — Don’t miss out! \nSpaces are limited to 10 participants to ensure a quality experience for all. Reserve your spot today by ordering below. Don’t miss out on this wonderful opportunity to learn\, create\, and celebrate the fall season with us. We can’t wait to see you there! 🌟 \n 
URL:https://staging.jazzandcharm.com/event/fall-pumpkin-wreath-making-class/
LOCATION:Jazz and Charm\, 3011 F Street\, Bakersfield\, 93301\, United States
ATTACH;FMTTYPE=image/jpeg:https://staging.jazzandcharm.com/wp-content/uploads/2024/08/PXL_20240810_2144406322-scaled.jpg
END:VEVENT
BEGIN:VEVENT
DTSTART;TZID=UTC:20240525T120000
DTEND;TZID=UTC:20240525T140000
DTSTAMP:20260425T120846
CREATED:20240430T190904Z
LAST-MODIFIED:20240501T034326Z
UID:10000003-1716638400-1716645600@staging.jazzandcharm.com
SUMMARY:Summer Floral Grapevine Wreath Class
DESCRIPTION:Hey there\, crafters! Get ready to add a touch of summer sunshine to your home decor with our Summer Floral Grapevine Wreath class at Jazz and Charm’s storefront! \nJoin us for a fun-filled afternoon of creativity as our talented instructor\, Pam (you might know her as the creative genius behind Jazz and Charm’s stunning designs and the owner of a thriving Etsy shop with over 1600 wreath\, centerpiece\, and bow sales)\, guides you through the steps to create a vibrantly colored summer wreath. \nWith all materials provided\, including a gorgeous selection of summery florals and foliage\, you’ll learn Pam’s expert techniques for creating your very own grapevine wreath. \nWhether you’re a seasoned wreath-maker or just dipping your toes into the world of DIY\, this class is perfect for crafters of all levels. Plus\, you’ll leave with a stunning wreath that’s sure to be the envy of all your neighbors! \nSpaces are limited\, so grab your spot now and get ready to bring a burst of eye-catching summer beauty to your home’s décor. We can’t wait to craft with you! \n  \n 
URL:https://staging.jazzandcharm.com/event/848/
LOCATION:Jazz and Charm\, 3011 F Street\, Bakersfield\, 93301\, United States
ATTACH;FMTTYPE=image/jpeg:https://staging.jazzandcharm.com/wp-content/uploads/2024/04/2024-Orange-Yellow-Summer-Floral-Wrath.jpg
END:VEVENT
BEGIN:VEVENT
DTSTART;TZID=UTC:20240518T120000
DTEND;TZID=UTC:20240518T140000
DTSTAMP:20260425T120846
CREATED:20240430T230714Z
LAST-MODIFIED:20240430T230714Z
UID:10000004-1716033600-1716040800@staging.jazzandcharm.com
SUMMARY:White Hydrangea Grapevine Wreath Class
DESCRIPTION:Hey there\, wreath enthusiasts! Prepare to infuse your home with elegance and grace by attending our White Hydrangea Grapevine Wreath class at Jazz and Charm! \nJoin us for an fun-filled crafting session inspired by the vision and passion of Pam\, Jazz and Charm’s creative heart. In this class Pam will be by your side every step of the way\, offering insider tips and tricks to help you craft a breathtaking grapevine wreath adorned with delicate white hydrangeas\, lush greenery and an oversized bow tying it all together. It’s a perfect opportunity to tap into your creativity and learn from a seasoned wreath maker. \nAs always\, all materials will be provided\, so you can relax and enjoy the crafting experience without any stress. Plus\, you’ll have the satisfaction of leaving with a stunning wreath that’s sure to impress your family\, friends and neighbors. \nSpaces are limited\, so be sure to secure your spot today for our White Hydrangea Grapevine Wreath class — let’s come together and create something truly extraordinary \n 
URL:https://staging.jazzandcharm.com/event/white-hydrangea-grapevine-wreath-class/
LOCATION:Jazz and Charm\, 3011 F Street\, Bakersfield\, 93301\, United States
ATTACH;FMTTYPE=image/jpeg:https://staging.jazzandcharm.com/wp-content/uploads/2024/04/2024-White-Hydrangea-Wreath.jpg
END:VEVENT
BEGIN:VEVENT
DTSTART;TZID=UTC:20240430T103000
DTEND;TZID=UTC:20240430T133000
DTSTAMP:20260425T120846
CREATED:20240419T195804Z
LAST-MODIFIED:20240419T195804Z
UID:10000002-1714473000-1714483800@staging.jazzandcharm.com
SUMMARY:Private Party
DESCRIPTION:Birthday Celebration for Laurie\n(Private Party)\nApril 30\, 2024     10:30 am — 1:30 pm
URL:https://staging.jazzandcharm.com/event/private-party/
LOCATION:Jazz and Charm\, 3011 F Street\, Bakersfield\, 93301\, United States
END:VEVENT
BEGIN:VEVENT
DTSTART;TZID=America/Halifax:20240427T120000
DTEND;TZID=America/Halifax:20240427T140000
DTSTAMP:20260425T120846
CREATED:20240405T181055Z
LAST-MODIFIED:20240407T222324Z
UID:10000001-1714219200-1714226400@staging.jazzandcharm.com
SUMMARY:Spring Bow Making Workshop
DESCRIPTION:Get ready to add a little springtime flair to your or a friend’s decor by attending our Spring Bow Making Workship (April 27th\, 12 – 2 pm). \nJoin our enthusiastic instructor\, Pam Quattlebaum (owner of Jazz and Charm with over 500 sets of bows sold) as she guides you through the art of creating a beautiful set of bows that will take your decor to the next level.  All materidals are included so come ready to unleash your creativity. \nIn this fun filled\, hands-on workshop\, you’ll begin your journey into the world of bow making by selecting your own ribbons from our vibrant collection.  Pam will then show you how to turn those ribbons into stunning bows that will elevate any space. \nWhether you’re a seasonsed crafter or just looking for a creative way to spend a Saturday afternoon\, this class is perfect for you. Come solo or grab your family or friends for a fun outing. Spaces are limited so snag your spot today and get ready for a magical afternoon. \n 
URL:https://staging.jazzandcharm.com/event/spring-bow-making-workshop/
LOCATION:Jazz and Charm\, 3011 F Street\, Bakersfield\, 93301\, United States
END:VEVENT
END:VCALENDAR